BEGIN:VCALENDAR
VERSION:2.0
PRODID:-//Associação abutrica - ECPv5.10.0//NONSGML v1.0//EN
CALSCALE:GREGORIAN
METHOD:PUBLISH
X-WR-CALNAME:Associação abutrica
X-ORIGINAL-URL:https://abutres.net
X-WR-CALDESC:Events for Associação abutrica
BEGIN:VTIMEZONE
TZID:Europe/Lisbon
BEGIN:DAYLIGHT
TZOFFSETFROM:+0000
TZOFFSETTO:+0100
TZNAME:WEST
DTSTART:20220327T010000
END:DAYLIGHT
BEGIN:STANDARD
TZOFFSETFROM:+0100
TZOFFSETTO:+0000
TZNAME:WET
DTSTART:20221030T010000
END:STANDARD
END:VTIMEZONE
BEGIN:VEVENT
DTSTART;TZID=Europe/Lisbon:20221105T100000
DTEND;TZID=Europe/Lisbon:20221105T170000
DTSTAMP:20260422T123600
CREATED:20221010T141046Z
LAST-MODIFIED:20221020T090544Z
UID:10640-1667642400-1667667600@abutres.net
SUMMARY:1º Trail Inclusivo dos Abutres
DESCRIPTION:O 1º Trail Inclusivo dos Abutres irá decorrer no dia 5 de novembro\, no centro de Miranda do Corvo\, percorrendo alguns dos locais verdes mais emblemáticos da vila\, numa organização da Associação Abutrica.\nEste é um evento que vai permitir a todos os atletas competirem\, independente das suas limitações\, num dia que se prevê de grande emoção e que contará com a presença de atletas de vários pontos de país\, numa celebração da igualdade no desporto.\n \nApoios: Fundação ADFP Câmara Municipal de Miranda do Corvo ANDDI – Associação Nacional de Desporto para Desenvolvimento Intelectual Bombeiros Voluntários de Miranda do Corvo IPDJ
URL:https://abutres.net/evento/1o-trail-inclusivo-dos-abutres/
LOCATION:Praça José Falcão- Miranda do Corvo\, Praça José Falcão\, Miranda do Corvo\, 3220-206\, Portugal
CATEGORIES:Associação Abutrica
ATTACH;FMTTYPE=image/jpeg:https://abutres.net/wp-content/uploads/2022/10/ABUTRES_EventoFace_Trail-Inclusivo_SD_1.jpg
ORGANIZER;CN="Trilhos%20dos%20Abutres":MAILTO:trilhos@abutres.net
END:VEVENT
END:VCALENDAR